BEGIN:VCALENDAR
VERSION:2.0
PRODID:-//Amy Berry Law - ECPv6.15.20//NONSGML v1.0//EN
CALSCALE:GREGORIAN
METHOD:PUBLISH
X-ORIGINAL-URL:https://amyberrylaw.com
X-WR-CALDESC:Events for Amy Berry Law
REFRESH-INTERVAL;VALUE=DURATION:PT1H
X-Robots-Tag:noindex
X-PUBLISHED-TTL:PT1H
BEGIN:VTIMEZONE
TZID:America/New_York
BEGIN:DAYLIGHT
TZOFFSETFROM:-0500
TZOFFSETTO:-0400
TZNAME:EDT
DTSTART:20250309T070000
END:DAYLIGHT
BEGIN:STANDARD
TZOFFSETFROM:-0400
TZOFFSETTO:-0500
TZNAME:EST
DTSTART:20251102T060000
END:STANDARD
BEGIN:DAYLIGHT
TZOFFSETFROM:-0500
TZOFFSETTO:-0400
TZNAME:EDT
DTSTART:20260308T070000
END:DAYLIGHT
BEGIN:STANDARD
TZOFFSETFROM:-0400
TZOFFSETTO:-0500
TZNAME:EST
DTSTART:20261101T060000
END:STANDARD
BEGIN:DAYLIGHT
TZOFFSETFROM:-0500
TZOFFSETTO:-0400
TZNAME:EDT
DTSTART:20270314T070000
END:DAYLIGHT
BEGIN:STANDARD
TZOFFSETFROM:-0400
TZOFFSETTO:-0500
TZNAME:EST
DTSTART:20271107T060000
END:STANDARD
END:VTIMEZONE
BEGIN:VEVENT
DTSTART;TZID=America/New_York:20260528T100000
DTEND;TZID=America/New_York:20260528T140000
DTSTAMP:20260420T194546
CREATED:20260218T160005Z
LAST-MODIFIED:20260218T160005Z
UID:4013-1779962400-1779976800@amyberrylaw.com
SUMMARY:MEDIATION
DESCRIPTION:Chapman v Harriss & Covington \nMediation to begin at 10:00 a.m.
URL:https://amyberrylaw.com/appointment/mediation-406/
END:VEVENT
BEGIN:VEVENT
DTSTART;TZID=America/New_York:20260528T140000
DTEND;TZID=America/New_York:20260528T180000
DTSTAMP:20260420T194546
CREATED:20260408T003305Z
LAST-MODIFIED:20260408T003305Z
UID:4120-1779976800-1779991200@amyberrylaw.com
SUMMARY:MEDIATION
DESCRIPTION:Laws v Landmark Properties\, Inc. \nMediation to begin at 2:00 p.m.
URL:https://amyberrylaw.com/appointment/mediation-432/
END:VEVENT
END:VCALENDAR